BEGIN:VCALENDAR
VERSION:2.0
PRODID:-//hacksw/handcal//NONSGML v1.0//EN
CALSCALE:GREGORIAN
BEGIN:VEVENT
ORGANIZER;CN=Fox:MAILTO:no-reply@gcs-web.com
DTEND:
UID:32428138-b00f-436c-94a1-55dab758ce77
DTSTAMP:1621974320
LOCATION:https://jpmorgan.metameetings.net/events/tmc21/sessions/37911-keynote/webcast?gpu_only=true&kiosk=true
DESCRIPTION:Event Details http://investor.foxcorporation.com/events/event-details/jp-morgan-global-technology-media-and-communications-conference\n\nWebcast: https://jpmorgan.metameetings.net/events/tmc21/sessions/37911-keynote/webcast?gpu_only=true&kiosk=true
URL;VALUE=URI:https://jpmorgan.metameetings.net/events/tmc21/sessions/37911-keynote/webcast?gpu_only=true&kiosk=true
SUMMARY:Fox - J.P. Morgan Global Technology, Media and Communications Conference
DTSTART:20210526T164000Z
END:VEVENT
END:VCALENDAR